BEGIN:VCALENDAR
VERSION:2.0
PRODID:-//ბიდიო აკადემია - ECPv4.9.7//NONSGML v1.0//EN
CALSCALE:GREGORIAN
METHOD:PUBLISH
X-WR-CALNAME:ბიდიო აკადემია
X-ORIGINAL-URL:https://bdoacademy.edu.ge
X-WR-CALDESC:Events for ბიდიო აკადემია
BEGIN:VTIMEZONE
TZID:"Asia/Dubai"
BEGIN:STANDARD
TZOFFSETFROM:+0400
TZOFFSETTO:+0400
TZNAME:+04
DTSTART:20220101T000000
END:STANDARD
END:VTIMEZONE
BEGIN:VEVENT
DTSTART;TZID="Asia/Dubai":20221010T200000
DTEND;TZID="Asia/Dubai":20221010T210000
DTSTAMP:20260421T183031
CREATED:20221003T084248Z
LAST-MODIFIED:20221003T084249Z
UID:7117-1665432000-1665435600@bdoacademy.edu.ge
SUMMARY:PMP Exam Preparation
DESCRIPTION:\n\n\n\n \n\n\n\n\n\n24 ოქტომბრიდან PMP-ის გამოცდისთვის მოსამზადებელ კურსს ვიწყებთ. \nონლაინ შეხვედრაზე დეტალურად ვისაუბრებთ PMP-ის პროგრამასთან დაკავშირებით და გავცემთ თქვენთვის ყველა საინტერესო კითხვაზე პასუხს. \nშეხვედრაზე დასასწრებად დარეგისტრირდით ბმულზე: https://forms.office.com/r/UadKSWUH4B \nვებინარს გაუძღვება თამთა ბასილაია (PMP\, PMI-ACP) – ევექსი ჰოსპიტლების სტრატეგიული პროექტის მენეჯერი. \nთამთა არის სერტიფიცირებული პროექტის მენეჯერი (PMP\, PMI-ACP) 8+ წლის პროექტის მართვის აქტიური გამოცდილებით. ის PMI საქართველოს წარმომადგენლობის წევრია და ეწევა მოხალისეობრივ საქმიანობას\, რითაც ხელს უწყობს პროექტის მართვის დარგის პოპულარიზებას საქართველოში. \nProject Management Professional (PMP) არის საერთაშორისოდ აღიარებული და ერთ-ერთი ყველაზე მოთხოვნადი სერტიფიკატი პროექტების მართვაში\, რომელსაც პროექტების მართვის ინსტიტუტი (PMI) გთავაზობთ. PMI არის წამყვანი პროფესიული ასოციაცია\, სადაც გაწევრიანებულია პროექტების მართვის მილიონობით პროფესიონალი და ინდივიდუალური პირი. \n\nსასარგებლო ბმულები:  \nPMP-ის გამოცდისთვის მოსამზადებელი კურსი  \nყველაფერი PMP-ის საერთაშორისო გამოცდის შესახებ \n\n\n\n\n\n \n\n\n\n\n\n\n\n\n\n	\n		გააზიარე\n		FacebookLinkedIn	\n	
URL:https://bdoacademy.edu.ge/event/pmp-exam-preparation-2/
CATEGORIES:ღონისძიებები
ATTACH;FMTTYPE=image/jpeg:https://bdoacademy.edu.ge/wp-content/uploads/2022/10/1920.jpg
END:VEVENT
END:VCALENDAR