BEGIN:VCALENDAR
VERSION:2.0
PRODID:-//ბიდიო აკადემია - ECPv4.9.7//NONSGML v1.0//EN
CALSCALE:GREGORIAN
METHOD:PUBLISH
X-WR-CALNAME:ბიდიო აკადემია
X-ORIGINAL-URL:https://bdoacademy.edu.ge
X-WR-CALDESC:Events for ბიდიო აკადემია
BEGIN:VTIMEZONE
TZID:"Asia/Dubai"
BEGIN:STANDARD
TZOFFSETFROM:+0400
TZOFFSETTO:+0400
TZNAME:+04
DTSTART:20200101T000000
END:STANDARD
END:VTIMEZONE
BEGIN:VEVENT
DTSTART;TZID="Asia/Dubai":20200213T190000
DTEND;TZID="Asia/Dubai":20200213T210000
DTSTAMP:20260423T202350
CREATED:20200108T145543Z
LAST-MODIFIED:20200911T081609Z
UID:4312-1581620400-1581627600@bdoacademy.edu.ge
SUMMARY:PHRi
DESCRIPTION:\n\n\n \n\n\n\n\n\n\n\n\n\n\n	\n		გააზიარე\n		FacebookLinkedIn	\n	
URL:https://bdoacademy.edu.ge/event/phri-2/
CATEGORIES:ტრენინგები
ATTACH;FMTTYPE=image/png:https://bdoacademy.edu.ge/wp-content/uploads/2019/08/gogo-leptopit-01-2.png
END:VEVENT
END:VCALENDAR