BEGIN:VCALENDAR
VERSION:2.0
PRODID:-//ბიდიო აკადემია - ECPv4.9.7//NONSGML v1.0//EN
CALSCALE:GREGORIAN
METHOD:PUBLISH
X-WR-CALNAME:ბიდიო აკადემია
X-ORIGINAL-URL:https://bdoacademy.edu.ge
X-WR-CALDESC:Events for ბიდიო აკადემია
BEGIN:VTIMEZONE
TZID:"Asia/Dubai"
BEGIN:STANDARD
TZOFFSETFROM:+0400
TZOFFSETTO:+0400
TZNAME:+04
DTSTART:20200101T000000
END:STANDARD
END:VTIMEZONE
BEGIN:VEVENT
DTSTART;TZID="Asia/Dubai":20201026T190000
DTEND;TZID="Asia/Dubai":20201026T210000
DTSTAMP:20260423T165903
CREATED:20201106T134216Z
LAST-MODIFIED:20201123T154309Z
UID:5261-1603738800-1603746000@bdoacademy.edu.ge
SUMMARY:Online შეხვედრა Hrci ინსტიტუტთან
DESCRIPTION:\n\n \n\n\n26 ოქტომბერს ადამიანური რესურსების მართვის მენეჯერებს პირადად გექნებათ საშუალება გაეცნოთ Jorge (J.D.) Nomdedeu-ს – HRCI-ის საერთაშორისო ბიზნესის განვითარებისა და პარტნიორობის დირექტორს და თეიკო ბოკუჩავას PHRi™\, SPHRi™\, რომლებიც მოგაწვდიან დეტალურ ინფორმაციას HRCI-ისა და საერთაშორისო ტიტულის უპირატესობების შესახე. \n\n\nადამიანური რესურსების მართვის სერტიფიცირების ინსტიტუტი (HRCI) მსოფლიო მასშტაბით ლიდერი ორგანიზაციაა\, რომელიც აწესებს ოქროს სტანდარტებს ადამიანური რესურსების მართვის კუთხით. \n\n\nBDO Academy პირველი ოფიციალური ტრენინგ პროვაიდერია ამიერკავკასიაში\, რომელიც HRCI-ის პრესტიჟული გამოცდების მოსამზადებელი კურსების ოფიციალური პროვაიდერის (CPP) სტატუსით სარგებლობს. \n\n\nOnline შეხვედრაზე დასწრებისთვის გაიარეთ რეგისტრაცია: https://forms.gle/s4KWSWwdAAP6bhseA \n\n\nაპლიკაციების განხილვის შემდეგ\, შერჩეული კანდიდატები მიიღებთ მოსაწვევს ელ.ფოსტის მისამართზე \n\n\n\n\n\n	\n		გააზიარე\n		FacebookLinkedIn	\n	
URL:https://bdoacademy.edu.ge/event/online-shexvedra-hrci/
CATEGORIES:ღონისძიებები
ATTACH;FMTTYPE=image/jpeg:https://bdoacademy.edu.ge/wp-content/uploads/2020/11/საიტისვის-04.jpg
END:VEVENT
END:VCALENDAR