BEGIN:VCALENDAR
VERSION:2.0
PRODID:-//ბიდიო აკადემია - ECPv4.9.7//NONSGML v1.0//EN
CALSCALE:GREGORIAN
METHOD:PUBLISH
X-WR-CALNAME:ბიდიო აკადემია
X-ORIGINAL-URL:https://bdoacademy.edu.ge
X-WR-CALDESC:Events for ბიდიო აკადემია
BEGIN:VTIMEZONE
TZID:"Asia/Dubai"
BEGIN:STANDARD
TZOFFSETFROM:+0400
TZOFFSETTO:+0400
TZNAME:+04
DTSTART:20200101T000000
END:STANDARD
END:VTIMEZONE
BEGIN:VEVENT
DTSTART;TZID="Asia/Dubai":20201125T190000
DTEND;TZID="Asia/Dubai":20201125T200000
DTSTAMP:20260423T151724
CREATED:20201117T075614Z
LAST-MODIFIED:20201123T154106Z
UID:5276-1606330800-1606334400@bdoacademy.edu.ge
SUMMARY:Online შეხვედრა ACCA ინსტიტუტთან
DESCRIPTION:\n\n \n\n\n25 ნოემებრს ACCA-ის კვალიფიკაციით დაინტერესებულ პირებს პირადად გექნებათ საშუალება გაეცნოთ და გაესაუბროთ Victoria Volotovska-ს (ACCA-ის რეგიონალური განვითარების მენეჯერი უკრაინასა და კავკასიის რეგიონში) და Olga Akimova-ს (ACCA-ის განათლების ხელმძღვანელი რუსეთსა და ბელარუსში)\, რომლებიც გაგაცნობენ დეტალურ ინფორმაციას პროფესიონალ ბუღალტერთა ინსტიტუტის და საერთაშორისო სერტიფიცირების უპირატესობების შესახებ. \n\n\nACCA\, იგივე პროფესიონალ ბუღალტერთა ინსტიტუტი\, წარმოადგენს მსოფლიოს ყველაზე მზარდ საერთაშორისო საბუღალტრო ორგანიზაციას\, რომელიც სერტიფიცირებით დაინტერესებულ პირებს ეხმარება წარმატებული კარიერის შექმნაში ისეთი მიმართულებებით\, როგორებიცაა: ბუღალტერია\, საბანკო საქმე\, მენეჯმენტი და კონსალტინგი. \n\n\nBDO Academy ACCA-ის ერთადერთი ოქროს პარტნიორია საქართველოში\, რაც იმას ნიშნავს\, რომ ACCA აღიარებს აკადემიის სწავლების მაღალ სტანდარტებს. \n\n\nOnline შეხვედრაზე დასწრებისთვის გაიარეთ რეგისტრაცია: https://forms.gle/DXuBvGFAy3zCUrH77 \n\n\nაპლიკაციების განხილვის შემდეგ\, შერჩეული კანდიდატები მიიღებთ მოსაწვევს ელ.ფოსტის მისამართზე \n\n\n\n\n\n	\n		გააზიარე\n		FacebookLinkedIn	\n	
URL:https://bdoacademy.edu.ge/event/online-shexvedra-acca/
CATEGORIES:ღონისძიებები
ATTACH;FMTTYPE=image/jpeg:https://bdoacademy.edu.ge/wp-content/uploads/2020/11/საიტისთვის-04.jpg
END:VEVENT
END:VCALENDAR