BEGIN:VCALENDAR
VERSION:2.0
PRODID:-//ბიდიო აკადემია - ECPv4.9.7//NONSGML v1.0//EN
CALSCALE:GREGORIAN
METHOD:PUBLISH
X-WR-CALNAME:ბიდიო აკადემია
X-ORIGINAL-URL:https://bdoacademy.edu.ge
X-WR-CALDESC:Events for ბიდიო აკადემია
BEGIN:VTIMEZONE
TZID:"Asia/Dubai"
BEGIN:STANDARD
TZOFFSETFROM:+0400
TZOFFSETTO:+0400
TZNAME:+04
DTSTART:20230101T000000
END:STANDARD
END:VTIMEZONE
BEGIN:VEVENT
DTSTART;TZID="Asia/Dubai":20230927T190000
DTEND;TZID="Asia/Dubai":20230927T200000
DTSTAMP:20260421T153905
CREATED:20230925T143447Z
LAST-MODIFIED:20230925T143655Z
UID:7643-1695841200-1695844800@bdoacademy.edu.ge
SUMMARY:Live Webinar: CFA
DESCRIPTION:16 იანვრიდან CFA-ის I დონის მაისის გამოცდისთვის მოსამზადებელ კურსს ვიწყებთ.\n \nონლაინ შეხვედრაზე დეტალურად ვისაუბრებთ CFA-ის პროგრამასთან დაკავშირებით და გავცემთ თქვენთვის ყველა საინტერესო კითხვაზე პასუხს.\n \nვებინარს გაუძღვება გივი გუჯარაიძე\, CFA – საქართველოს ეროვნული ბანკის წამყვანი სპეციალისტი ფასიანი ქაღალდების ბაზრის ზედამხედველობის დეპარტამენტში.\n \nშეხვედრაზე დასასწრებად დარეგისტრირდით ბმულზე: https://forms.office.com/e/KxrJ5MjKyZ\n \nCFA Institute\, იგივე სერტიფიცირებულ ფინანსურ ანალიტიკოსთა ინსტიტუტი\, არის ინვესტიციების პროფესიონალთა გლობალური ასოციაცია\, რომელიც ფინანსურ ბაზარზე პროფესიული ცოდნისა და ქცევის ნორმების საყოველთაოდ აღიარებულ სტანდარტებს ადგენს\n\n\n  \n\n\n\n\n\n	\n		გააზიარე\n		FacebookLinkedIn	\n	
URL:https://bdoacademy.edu.ge/event/live-webinar-cfa/
CATEGORIES:ღონისძიებები
ATTACH;FMTTYPE=image/jpeg:https://bdoacademy.edu.ge/wp-content/uploads/2023/09/CFA-ბანერი-Recovered-02-1.jpg
END:VEVENT
END:VCALENDAR