BEGIN:VCALENDAR
VERSION:2.0
PRODID:-//ბიდიო აკადემია - ECPv4.9.7//NONSGML v1.0//EN
CALSCALE:GREGORIAN
METHOD:PUBLISH
X-WR-CALNAME:ბიდიო აკადემია
X-ORIGINAL-URL:https://bdoacademy.edu.ge
X-WR-CALDESC:Events for ბიდიო აკადემია
BEGIN:VTIMEZONE
TZID:"Asia/Dubai"
BEGIN:STANDARD
TZOFFSETFROM:+0400
TZOFFSETTO:+0400
TZNAME:+04
DTSTART:20210101T000000
END:STANDARD
END:VTIMEZONE
BEGIN:VEVENT
DTSTART;TZID="Asia/Dubai":20211130T190000
DTEND;TZID="Asia/Dubai":20211130T210000
DTSTAMP:20260423T103222
CREATED:20211007T125511Z
LAST-MODIFIED:20211007T125512Z
UID:6411-1638298800-1638306000@bdoacademy.edu.ge
SUMMARY:IT მენეჯმენტი
DESCRIPTION:\n\n\n \n\n\n\n\n\n\n\n\n\n\n	\n		გააზიარე\n		FacebookLinkedIn	\n	
URL:https://bdoacademy.edu.ge/event/it-%e1%83%9b%e1%83%94%e1%83%9c%e1%83%94%e1%83%af%e1%83%9b%e1%83%94%e1%83%9c%e1%83%a2%e1%83%98-2/
CATEGORIES:ტრენინგები
ATTACH;FMTTYPE=image/jpeg:https://bdoacademy.edu.ge/wp-content/uploads/2021/04/IT-მენეჯმენტი-02.jpg
END:VEVENT
END:VCALENDAR