BEGIN:VCALENDAR
VERSION:2.0
PRODID:-//ბიდიო აკადემია - ECPv4.9.7//NONSGML v1.0//EN
CALSCALE:GREGORIAN
METHOD:PUBLISH
X-WR-CALNAME:ბიდიო აკადემია
X-ORIGINAL-URL:https://bdoacademy.edu.ge
X-WR-CALDESC:Events for ბიდიო აკადემია
BEGIN:VTIMEZONE
TZID:"Asia/Dubai"
BEGIN:STANDARD
TZOFFSETFROM:+0400
TZOFFSETTO:+0400
TZNAME:+04
DTSTART:20210101T000000
END:STANDARD
END:VTIMEZONE
BEGIN:VEVENT
DTSTART;TZID="Asia/Dubai":20210217T190000
DTEND;TZID="Asia/Dubai":20210217T210000
DTSTAMP:20260423T154132
CREATED:20210121T130316Z
LAST-MODIFIED:20210121T130318Z
UID:5591-1613588400-1613595600@bdoacademy.edu.ge
SUMMARY:IFRS 16 და Covid 19-ით გამოწვეული ცვლილებები
DESCRIPTION:\n\n\n \n\n\n\n\n\n\n\n\n\n\n	\n		გააზიარე\n		FacebookLinkedIn	\n	
URL:https://bdoacademy.edu.ge/event/ifrs-16-%e1%83%93%e1%83%90-covid-19-%e1%83%98%e1%83%97-%e1%83%92%e1%83%90%e1%83%9b%e1%83%9d%e1%83%ac%e1%83%95%e1%83%94%e1%83%a3%e1%83%9a%e1%83%98-%e1%83%aa%e1%83%95%e1%83%9a%e1%83%98%e1%83%9a%e1%83%94/
CATEGORIES:ტრენინგები
ATTACH;FMTTYPE=image/jpeg:https://bdoacademy.edu.ge/wp-content/uploads/2021/01/IFRS-16-02.jpg
END:VEVENT
END:VCALENDAR