BEGIN:VCALENDAR
VERSION:2.0
PRODID:-//ბიდიო აკადემია - ECPv4.9.7//NONSGML v1.0//EN
CALSCALE:GREGORIAN
METHOD:PUBLISH
X-WR-CALNAME:ბიდიო აკადემია
X-ORIGINAL-URL:https://bdoacademy.edu.ge
X-WR-CALDESC:Events for ბიდიო აკადემია
BEGIN:VTIMEZONE
TZID:"Asia/Dubai"
BEGIN:STANDARD
TZOFFSETFROM:+0400
TZOFFSETTO:+0400
TZNAME:+04
DTSTART:20240101T000000
END:STANDARD
END:VTIMEZONE
BEGIN:VEVENT
DTSTART;TZID="Asia/Dubai":20240417T110000
DTEND;TZID="Asia/Dubai":20240417T150000
DTSTAMP:20260421T132124
CREATED:20240109T120203Z
LAST-MODIFIED:20240312T080716Z
UID:7980-1713351600-1713366000@bdoacademy.edu.ge
SUMMARY:HR მენეჯმენტი
DESCRIPTION:\n\n\n \n\n\n\n\n\n\n\n\n\n\n	\n		გააზიარე\n		FacebookLinkedIn	\n	
URL:https://bdoacademy.edu.ge/event/hr-%e1%83%9b%e1%83%94%e1%83%9c%e1%83%94%e1%83%af%e1%83%9b%e1%83%94%e1%83%9c%e1%83%a2%e1%83%98-14/
CATEGORIES:ტრენინგები
ATTACH;FMTTYPE=image/jpeg:https://bdoacademy.edu.ge/wp-content/uploads/2023/09/hr-მენეჯმენტი.jpg
END:VEVENT
END:VCALENDAR