BEGIN:VCALENDAR
VERSION:2.0
PRODID:-//ბიდიო აკადემია - ECPv4.9.7//NONSGML v1.0//EN
CALSCALE:GREGORIAN
METHOD:PUBLISH
X-WR-CALNAME:ბიდიო აკადემია
X-ORIGINAL-URL:https://bdoacademy.edu.ge
X-WR-CALDESC:Events for ბიდიო აკადემია
BEGIN:VTIMEZONE
TZID:"Asia/Dubai"
BEGIN:STANDARD
TZOFFSETFROM:+0400
TZOFFSETTO:+0400
TZNAME:+04
DTSTART:20260101T000000
END:STANDARD
END:VTIMEZONE
BEGIN:VEVENT
DTSTART;TZID="Asia/Dubai":20260204T200000
DTEND;TZID="Asia/Dubai":20260204T220000
DTSTAMP:20260421T083615
CREATED:20260123T074734Z
LAST-MODIFIED:20260123T075535Z
UID:9693-1770235200-1770242400@bdoacademy.edu.ge
SUMMARY:HR ანალიტიკა
DESCRIPTION:\n\nდღეები: ოთხშაბათი – შაბათი. სასწავლო კურსის მიზანია მონაწილეებმა\, მონაცემებზე დაფუძნებული ეფექტური სტრატეგიული გადაწყვეტილებების მისაღებად\, მიიღონ HR ანალიტიკის საბაზისო ცოდნა და გამოიმუშაონ პრაქტიკული უნარები. \n\n\n\n\n\n	\n		გააზიარე\n		FacebookLinkedIn	\n	
URL:https://bdoacademy.edu.ge/event/hr-%e1%83%90%e1%83%9c%e1%83%90%e1%83%9a%e1%83%98%e1%83%a2%e1%83%98%e1%83%99%e1%83%90/
CATEGORIES:ტრენინგები
ATTACH;FMTTYPE=image/png:https://bdoacademy.edu.ge/wp-content/uploads/2023/09/HR-ანალიტიკა.png
END:VEVENT
END:VCALENDAR