BEGIN:VCALENDAR
VERSION:2.0
PRODID:-//ბიდიო აკადემია - ECPv4.9.7//NONSGML v1.0//EN
CALSCALE:GREGORIAN
METHOD:PUBLISH
X-WR-CALNAME:ბიდიო აკადემია
X-ORIGINAL-URL:https://bdoacademy.edu.ge
X-WR-CALDESC:Events for ბიდიო აკადემია
BEGIN:VTIMEZONE
TZID:"Asia/Dubai"
BEGIN:STANDARD
TZOFFSETFROM:+0400
TZOFFSETTO:+0400
TZNAME:+04
DTSTART:20200101T000000
END:STANDARD
END:VTIMEZONE
BEGIN:VEVENT
DTSTART;TZID="Asia/Dubai":20201103T190000
DTEND;TZID="Asia/Dubai":20201103T210000
DTSTAMP:20260423T171332
CREATED:20201013T122552Z
LAST-MODIFIED:20201013T122605Z
UID:5202-1604430000-1604437200@bdoacademy.edu.ge
SUMMARY:ცვლილებები საქართველოს შრომის კოდექსში
DESCRIPTION:\n\n\n \n\n\n\n\n\n\n\n\n\n\n	\n		გააზიარე\n		FacebookLinkedIn	\n	
URL:https://bdoacademy.edu.ge/event/cvlilebebi-shromis-kodeqsshi-3/
CATEGORIES:ტრენინგები
ATTACH;FMTTYPE=image/jpeg:https://bdoacademy.edu.ge/wp-content/uploads/2020/10/შრომის-სამართალი-1200x1200-cs6-ნინო-03.jpg
END:VEVENT
END:VCALENDAR