BEGIN:VCALENDAR
VERSION:2.0
PRODID:-//ბიდიო აკადემია - ECPv4.9.7//NONSGML v1.0//EN
CALSCALE:GREGORIAN
METHOD:PUBLISH
X-WR-CALNAME:ბიდიო აკადემია
X-ORIGINAL-URL:https://bdoacademy.edu.ge
X-WR-CALDESC:Events for ბიდიო აკადემია
BEGIN:VTIMEZONE
TZID:"Asia/Dubai"
BEGIN:STANDARD
TZOFFSETFROM:+0400
TZOFFSETTO:+0400
TZNAME:+04
DTSTART:20190101T000000
END:STANDARD
END:VTIMEZONE
BEGIN:VEVENT
DTSTART;TZID="Asia/Dubai":20190916T190000
DTEND;TZID="Asia/Dubai":20190916T210000
DTSTAMP:20260423T221222
CREATED:20190902T134537Z
LAST-MODIFIED:20190903T083007Z
UID:3393-1568660400-1568667600@bdoacademy.edu.ge
SUMMARY:ACCA FR
DESCRIPTION:\n\n\n \n\n\n\n\n\n\n\n\n\n\n	\n		გააზიარე\n		FacebookLinkedIn	\n	
URL:https://bdoacademy.edu.ge/event/acca/
CATEGORIES:ტრენინგები
ATTACH;FMTTYPE=image/png:https://bdoacademy.edu.ge/wp-content/uploads/2019/07/2090307.png
END:VEVENT
END:VCALENDAR