BEGIN:VCALENDAR
VERSION:2.0
PRODID:-//ბიდიო აკადემია - ECPv4.9.7//NONSGML v1.0//EN
CALSCALE:GREGORIAN
METHOD:PUBLISH
X-WR-CALNAME:ბიდიო აკადემია
X-ORIGINAL-URL:https://bdoacademy.edu.ge
X-WR-CALDESC:Events for ბიდიო აკადემია
BEGIN:VTIMEZONE
TZID:"Asia/Dubai"
BEGIN:STANDARD
TZOFFSETFROM:+0400
TZOFFSETTO:+0400
TZNAME:+04
DTSTART:20230101T000000
END:STANDARD
END:VTIMEZONE
BEGIN:VEVENT
DTSTART;TZID="Asia/Dubai":20230131T190000
DTEND;TZID="Asia/Dubai":20230131T210000
DTSTAMP:20260421T164142
CREATED:20230110T123033Z
LAST-MODIFIED:20230110T123034Z
UID:7224-1675191600-1675198800@bdoacademy.edu.ge
SUMMARY:ACCA MA (F2)
DESCRIPTION:\n\n\n \n\n\n\n\n\n\n\n\n\n\n	\n		გააზიარე\n		FacebookLinkedIn	\n	
URL:https://bdoacademy.edu.ge/event/acca-ma-f2-7/
CATEGORIES:ტრენინგები
ATTACH;FMTTYPE=image/jpeg:https://bdoacademy.edu.ge/wp-content/uploads/2022/09/F2.jpg
END:VEVENT
END:VCALENDAR