BEGIN:VCALENDAR
VERSION:2.0
PRODID:-//ბიდიო აკადემია - ECPv4.9.7//NONSGML v1.0//EN
CALSCALE:GREGORIAN
METHOD:PUBLISH
X-WR-CALNAME:ბიდიო აკადემია
X-ORIGINAL-URL:https://bdoacademy.edu.ge
X-WR-CALDESC:Events for ბიდიო აკადემია
BEGIN:VTIMEZONE
TZID:"Asia/Dubai"
BEGIN:STANDARD
TZOFFSETFROM:+0400
TZOFFSETTO:+0400
TZNAME:+04
DTSTART:20220101T000000
END:STANDARD
END:VTIMEZONE
BEGIN:VEVENT
DTSTART;TZID="Asia/Dubai":20220314T190000
DTEND;TZID="Asia/Dubai":20220314T210000
DTSTAMP:20260423T085608
CREATED:20220207T103035Z
LAST-MODIFIED:20220223T112009Z
UID:6696-1647284400-1647291600@bdoacademy.edu.ge
SUMMARY:შრომის სამართალი
DESCRIPTION:\n\n\n \n\n\n\n\n\n\n\n\n\n\n	\n		გააზიარე\n		FacebookLinkedIn	\n	
URL:https://bdoacademy.edu.ge/event/%e1%83%a8%e1%83%a0%e1%83%9d%e1%83%9b%e1%83%98%e1%83%a1-%e1%83%a1%e1%83%90%e1%83%9b%e1%83%90%e1%83%a0%e1%83%97%e1%83%90%e1%83%9a%e1%83%98-9/
CATEGORIES:ტრენინგები
ATTACH;FMTTYPE=image/jpeg:https://bdoacademy.edu.ge/wp-content/uploads/2021/01/შრომის-სამართალი-1200x1200-cs6-ნინო-02.jpg
END:VEVENT
END:VCALENDAR