BEGIN:VCALENDAR
VERSION:2.0
PRODID:-//ბიდიო აკადემია - ECPv4.9.7//NONSGML v1.0//EN
CALSCALE:GREGORIAN
METHOD:PUBLISH
X-WR-CALNAME:ბიდიო აკადემია
X-ORIGINAL-URL:https://bdoacademy.edu.ge
X-WR-CALDESC:Events for ბიდიო აკადემია
BEGIN:VTIMEZONE
TZID:"Asia/Dubai"
BEGIN:STANDARD
TZOFFSETFROM:+0400
TZOFFSETTO:+0400
TZNAME:+04
DTSTART:20240101T000000
END:STANDARD
END:VTIMEZONE
BEGIN:VEVENT
DTSTART;TZID="Asia/Dubai":20241219T190000
DTEND;TZID="Asia/Dubai":20241219T210000
DTSTAMP:20260421T114755
CREATED:20241206T074435Z
LAST-MODIFIED:20241206T074436Z
UID:8692-1734634800-1734642000@bdoacademy.edu.ge
SUMMARY:ფულის გათეთრებისა და ტერორიზმის დაფინანსების აღკვეთის ხელშეწყობა
DESCRIPTION:\n\n\n \n\n\n\n\n\n\n\n\n\n\n	\n		გააზიარე\n		FacebookLinkedIn	\n	
URL:https://bdoacademy.edu.ge/event/%e1%83%a4%e1%83%a3%e1%83%9a%e1%83%98%e1%83%a1-%e1%83%92%e1%83%90%e1%83%97%e1%83%94%e1%83%97%e1%83%a0%e1%83%94%e1%83%91%e1%83%98%e1%83%a1%e1%83%90-%e1%83%93%e1%83%90-%e1%83%a2%e1%83%94%e1%83%a0-6/
CATEGORIES:ტრენინგები
ATTACH;FMTTYPE=image/png:https://bdoacademy.edu.ge/wp-content/uploads/2024/07/AML-46.png
END:VEVENT
END:VCALENDAR