BEGIN:VCALENDAR
VERSION:2.0
PRODID:-//ბიდიო აკადემია - ECPv4.9.7//NONSGML v1.0//EN
CALSCALE:GREGORIAN
METHOD:PUBLISH
X-WR-CALNAME:ბიდიო აკადემია
X-ORIGINAL-URL:https://bdoacademy.edu.ge
X-WR-CALDESC:Events for ბიდიო აკადემია
BEGIN:VTIMEZONE
TZID:"Asia/Dubai"
BEGIN:STANDARD
TZOFFSETFROM:+0400
TZOFFSETTO:+0400
TZNAME:+04
DTSTART:20190101T000000
END:STANDARD
END:VTIMEZONE
BEGIN:VEVENT
DTSTART;TZID="Asia/Dubai":20190910T190000
DTEND;TZID="Asia/Dubai":20190910T210000
DTSTAMP:20260424T000610
CREATED:20190903T082345Z
LAST-MODIFIED:20190903T082346Z
UID:3405-1568142000-1568149200@bdoacademy.edu.ge
SUMMARY:ფას IV კატეგორიის საწარმოებისთვის
DESCRIPTION:\n\n\n \n\n\n\n\n\n\n\n\n\n\n	\n		გააზიარე\n		FacebookLinkedIn	\n	
URL:https://bdoacademy.edu.ge/event/%e1%83%a4%e1%83%90%e1%83%a1-iv-%e1%83%99%e1%83%90%e1%83%a2%e1%83%94%e1%83%92%e1%83%9d%e1%83%a0%e1%83%98%e1%83%98%e1%83%a1-%e1%83%a1%e1%83%90%e1%83%ac%e1%83%90%e1%83%a0%e1%83%9b%e1%83%9d%e1%83%94-2/
CATEGORIES:ტრენინგები
ATTACH;FMTTYPE=image/png:https://bdoacademy.edu.ge/wp-content/uploads/2019/09/-ბიჭაშვილიი-ფასით-e1586348686321.png
END:VEVENT
END:VCALENDAR