BEGIN:VCALENDAR
VERSION:2.0
PRODID:-//ბიდიო აკადემია - ECPv4.9.7//NONSGML v1.0//EN
CALSCALE:GREGORIAN
METHOD:PUBLISH
X-WR-CALNAME:ბიდიო აკადემია
X-ORIGINAL-URL:https://bdoacademy.edu.ge
X-WR-CALDESC:Events for ბიდიო აკადემია
BEGIN:VTIMEZONE
TZID:"Asia/Dubai"
BEGIN:STANDARD
TZOFFSETFROM:+0400
TZOFFSETTO:+0400
TZNAME:+04
DTSTART:20220101T000000
END:STANDARD
END:VTIMEZONE
BEGIN:VEVENT
DTSTART;TZID="Asia/Dubai":20220610T180000
DTEND;TZID="Asia/Dubai":20220610T210000
DTSTAMP:20260421T183704
CREATED:20220406T070610Z
LAST-MODIFIED:20220601T141556Z
UID:6791-1654884000-1654894800@bdoacademy.edu.ge
SUMMARY:ტრენერების ტრენინგი (TOT)
DESCRIPTION:\n\n\n \n\n\n\n\n\n\n\n\n\n\n	\n		გააზიარე\n		FacebookLinkedIn	\n	
URL:https://bdoacademy.edu.ge/event/%e1%83%a2%e1%83%a0%e1%83%94%e1%83%9c%e1%83%94%e1%83%a0%e1%83%94%e1%83%91%e1%83%98%e1%83%a1-%e1%83%a2%e1%83%a0%e1%83%94%e1%83%9c%e1%83%98%e1%83%9c%e1%83%92%e1%83%98-tot-2/
CATEGORIES:ტრენინგები
ATTACH;FMTTYPE=image/jpeg:https://bdoacademy.edu.ge/wp-content/uploads/2021/10/TOT-01.jpg
END:VEVENT
END:VCALENDAR