BEGIN:VCALENDAR
VERSION:2.0
PRODID:-//ბიდიო აკადემია - ECPv4.9.7//NONSGML v1.0//EN
CALSCALE:GREGORIAN
METHOD:PUBLISH
X-WR-CALNAME:ბიდიო აკადემია
X-ORIGINAL-URL:https://bdoacademy.edu.ge
X-WR-CALDESC:Events for ბიდიო აკადემია
BEGIN:VTIMEZONE
TZID:"Asia/Dubai"
BEGIN:STANDARD
TZOFFSETFROM:+0400
TZOFFSETTO:+0400
TZNAME:+04
DTSTART:20230101T000000
END:STANDARD
END:VTIMEZONE
BEGIN:VEVENT
DTSTART;TZID="Asia/Dubai":20230412T190000
DTEND;TZID="Asia/Dubai":20230412T210000
DTSTAMP:20260421T180300
CREATED:20230214T093117Z
LAST-MODIFIED:20230327T085401Z
UID:7339-1681326000-1681333200@bdoacademy.edu.ge
SUMMARY:სპეციალისტი MS Excel-ში
DESCRIPTION:\n\n\n \n\n\n\n\n\n\n\n\n\n\n	\n		გააზიარე\n		FacebookLinkedIn	\n	
URL:https://bdoacademy.edu.ge/event/%e1%83%a1%e1%83%9e%e1%83%94%e1%83%aa%e1%83%98%e1%83%90%e1%83%9a%e1%83%98%e1%83%a1%e1%83%a2%e1%83%98-ms-excel-%e1%83%a8%e1%83%98-23/
CATEGORIES:ტრენინგები
ATTACH;FMTTYPE=image/jpeg:https://bdoacademy.edu.ge/wp-content/uploads/2022/08/სპეციალისტი-MS-EXCEL.jpg
END:VEVENT
END:VCALENDAR