BEGIN:VCALENDAR
VERSION:2.0
PRODID:-//ბიდიო აკადემია - ECPv4.9.7//NONSGML v1.0//EN
CALSCALE:GREGORIAN
METHOD:PUBLISH
X-WR-CALNAME:ბიდიო აკადემია
X-ORIGINAL-URL:https://bdoacademy.edu.ge
X-WR-CALDESC:Events for ბიდიო აკადემია
BEGIN:VTIMEZONE
TZID:"Asia/Dubai"
BEGIN:STANDARD
TZOFFSETFROM:+0400
TZOFFSETTO:+0400
TZNAME:+04
DTSTART:20230101T000000
END:STANDARD
END:VTIMEZONE
BEGIN:VEVENT
DTSTART;TZID="Asia/Dubai":20230522T190000
DTEND;TZID="Asia/Dubai":20230522T210000
DTSTAMP:20260421T185501
CREATED:20230304T104427Z
LAST-MODIFIED:20230425T080404Z
UID:7384-1684782000-1684789200@bdoacademy.edu.ge
SUMMARY:საგადასახადო სიახლეები
DESCRIPTION:\n\n\n \n\n\n\n\n\n\n\n\n\n\n	\n		გააზიარე\n		FacebookLinkedIn	\n	
URL:https://bdoacademy.edu.ge/event/%e1%83%a1%e1%83%90%e1%83%92%e1%83%90%e1%83%93%e1%83%90%e1%83%a1%e1%83%90%e1%83%ae%e1%83%90%e1%83%93%e1%83%9d-%e1%83%a1%e1%83%98%e1%83%90%e1%83%ae%e1%83%9a%e1%83%94%e1%83%94%e1%83%91%e1%83%98-12/
CATEGORIES:ტრენინგები
ATTACH;FMTTYPE=image/jpeg:https://bdoacademy.edu.ge/wp-content/uploads/2023/03/საგადასახადო-სიახლე-1.jpg
END:VEVENT
END:VCALENDAR