BEGIN:VCALENDAR
VERSION:2.0
PRODID:-//ბიდიო აკადემია - ECPv4.9.7//NONSGML v1.0//EN
CALSCALE:GREGORIAN
METHOD:PUBLISH
X-WR-CALNAME:ბიდიო აკადემია
X-ORIGINAL-URL:https://bdoacademy.edu.ge
X-WR-CALDESC:Events for ბიდიო აკადემია
BEGIN:VTIMEZONE
TZID:"Asia/Dubai"
BEGIN:STANDARD
TZOFFSETFROM:+0400
TZOFFSETTO:+0400
TZNAME:+04
DTSTART:20190101T000000
END:STANDARD
END:VTIMEZONE
BEGIN:VEVENT
DTSTART;TZID="Asia/Dubai":20191015T190000
DTEND;TZID="Asia/Dubai":20191015T210000
DTSTAMP:20260424T000404
CREATED:20190902T061500Z
LAST-MODIFIED:20190902T062016Z
UID:3335-1571166000-1571173200@bdoacademy.edu.ge
SUMMARY:საგადასახადო კოდექსი
DESCRIPTION:\n\n  \n\n\n\n\n\n	\n		გააზიარე\n		FacebookLinkedIn	\n	
URL:https://bdoacademy.edu.ge/event/%e1%83%a1%e1%83%90%e1%83%92%e1%83%90%e1%83%93%e1%83%90%e1%83%a1%e1%83%90%e1%83%ae%e1%83%90%e1%83%93%e1%83%9d-%e1%83%99%e1%83%9d%e1%83%93%e1%83%94%e1%83%a5%e1%83%a1%e1%83%98/
CATEGORIES:ტრენინგები
ATTACH;FMTTYPE=image/png:https://bdoacademy.edu.ge/wp-content/uploads/2019/09/nastuh-abootalebi-284879-unsplash.png
END:VEVENT
END:VCALENDAR