BEGIN:VCALENDAR
VERSION:2.0
PRODID:-//ბიდიო აკადემია - ECPv4.9.7//NONSGML v1.0//EN
CALSCALE:GREGORIAN
METHOD:PUBLISH
X-WR-CALNAME:ბიდიო აკადემია
X-ORIGINAL-URL:https://bdoacademy.edu.ge
X-WR-CALDESC:Events for ბიდიო აკადემია
BEGIN:VTIMEZONE
TZID:"Asia/Dubai"
BEGIN:STANDARD
TZOFFSETFROM:+0400
TZOFFSETTO:+0400
TZNAME:+04
DTSTART:20210101T000000
END:STANDARD
END:VTIMEZONE
BEGIN:VEVENT
DTSTART;TZID="Asia/Dubai":20211026T190000
DTEND;TZID="Asia/Dubai":20211026T210000
DTSTAMP:20260423T105020
CREATED:20210928T131333Z
LAST-MODIFIED:20210929T152928Z
UID:6348-1635274800-1635282000@bdoacademy.edu.ge
SUMMARY:საგადასახადო კოდექსის პროფესიონალი
DESCRIPTION:\n\n\n \n\n\n\n\n\n\n\n\n\n\n	\n		გააზიარე\n		FacebookLinkedIn	\n	
URL:https://bdoacademy.edu.ge/event/%e1%83%a1%e1%83%90%e1%83%92%e1%83%90%e1%83%93%e1%83%90%e1%83%a1%e1%83%90%e1%83%ae%e1%83%90%e1%83%93%e1%83%9d-%e1%83%99%e1%83%9d%e1%83%93%e1%83%94%e1%83%a5%e1%83%a1%e1%83%98-%e1%83%9b%e1%83%97%e1%83%90/
CATEGORIES:ტრენინგები
ATTACH;FMTTYPE=image/jpeg:https://bdoacademy.edu.ge/wp-content/uploads/2021/09/საგადასახადო-კოდექსი-მთავარი-ბუღალტრებისთვის-03.jpg
END:VEVENT
END:VCALENDAR