BEGIN:VCALENDAR
VERSION:2.0
PRODID:-//ბიდიო აკადემია - ECPv4.9.7//NONSGML v1.0//EN
CALSCALE:GREGORIAN
METHOD:PUBLISH
X-WR-CALNAME:ბიდიო აკადემია
X-ORIGINAL-URL:https://bdoacademy.edu.ge
X-WR-CALDESC:Events for ბიდიო აკადემია
BEGIN:VTIMEZONE
TZID:"Asia/Dubai"
BEGIN:STANDARD
TZOFFSETFROM:+0400
TZOFFSETTO:+0400
TZNAME:+04
DTSTART:20260101T000000
END:STANDARD
END:VTIMEZONE
BEGIN:VEVENT
DTSTART;TZID="Asia/Dubai":20260216T190000
DTEND;TZID="Asia/Dubai":20260216T210000
DTSTAMP:20260421T084018
CREATED:20260120T142733Z
LAST-MODIFIED:20260120T142734Z
UID:9642-1771268400-1771275600@bdoacademy.edu.ge
SUMMARY:მონაცემთა ვიზუალიზაცია
DESCRIPTION:\n\n\nდღეები: ორშაბათი- ოთხშაბათი. თუ თქვენ გარშემო ბევრი მონაცემია და კვარტლის ან თვის ბოლოს მრავალი ანგარიშგების მომზადება და ბევრი ღამის გათენება გიწევთ\, ეს კურსი თქვენთვისაა.  \n\n\n\n\n\n\n\n\n\n\n	\n		გააზიარე\n		FacebookLinkedIn	\n	
URL:https://bdoacademy.edu.ge/event/%e1%83%9b%e1%83%9d%e1%83%9c%e1%83%90%e1%83%aa%e1%83%94%e1%83%9b%e1%83%97%e1%83%90-%e1%83%95%e1%83%98%e1%83%96%e1%83%a3%e1%83%90%e1%83%9a%e1%83%98%e1%83%96%e1%83%90%e1%83%aa%e1%83%98%e1%83%90-12/
CATEGORIES:ტრენინგები
ATTACH;FMTTYPE=image/jpeg:https://bdoacademy.edu.ge/wp-content/uploads/2023/09/მონაცემთა-ვიზუალიზაცია.jpg
END:VEVENT
END:VCALENDAR