BEGIN:VCALENDAR
VERSION:2.0
PRODID:-//ბიდიო აკადემია - ECPv4.9.7//NONSGML v1.0//EN
CALSCALE:GREGORIAN
METHOD:PUBLISH
X-WR-CALNAME:ბიდიო აკადემია
X-ORIGINAL-URL:https://bdoacademy.edu.ge
X-WR-CALDESC:Events for ბიდიო აკადემია
BEGIN:VTIMEZONE
TZID:"Asia/Dubai"
BEGIN:STANDARD
TZOFFSETFROM:+0400
TZOFFSETTO:+0400
TZNAME:+04
DTSTART:20190101T000000
END:STANDARD
END:VTIMEZONE
BEGIN:VEVENT
DTSTART;TZID="Asia/Dubai":20190909T163000
DTEND;TZID="Asia/Dubai":20190909T210000
DTSTAMP:20260423T235923
CREATED:20190902T110843Z
LAST-MODIFIED:20190902T110845Z
UID:3373-1568046600-1568062800@bdoacademy.edu.ge
SUMMARY:მასტერი MS Excel
DESCRIPTION:\n\n\n \n\n\n\n\n\n\n\n\n\n\n	\n		გააზიარე\n		FacebookLinkedIn	\n	
URL:https://bdoacademy.edu.ge/event/%e1%83%9b%e1%83%90%e1%83%a1%e1%83%a2%e1%83%94%e1%83%a0%e1%83%98-ms-excel/
CATEGORIES:ტრენინგები
ATTACH;FMTTYPE=image/png:https://bdoacademy.edu.ge/wp-content/uploads/2019/08/ბანერი.png
END:VEVENT
END:VCALENDAR