BEGIN:VCALENDAR
VERSION:2.0
PRODID:-//ბიდიო აკადემია - ECPv4.9.7//NONSGML v1.0//EN
CALSCALE:GREGORIAN
METHOD:PUBLISH
X-WR-CALNAME:ბიდიო აკადემია
X-ORIGINAL-URL:https://bdoacademy.edu.ge
X-WR-CALDESC:Events for ბიდიო აკადემია
BEGIN:VTIMEZONE
TZID:"Asia/Dubai"
BEGIN:STANDARD
TZOFFSETFROM:+0400
TZOFFSETTO:+0400
TZNAME:+04
DTSTART:20220101T000000
END:STANDARD
END:VTIMEZONE
BEGIN:VEVENT
DTSTART;TZID="Asia/Dubai":20221017T190000
DTEND;TZID="Asia/Dubai":20221017T210000
DTSTAMP:20260421T183149
CREATED:20220901T133037Z
LAST-MODIFIED:20220901T133439Z
UID:6976-1666033200-1666040400@bdoacademy.edu.ge
SUMMARY:მასტერი MS Excel-ში
DESCRIPTION:\n\n\n \n\n\n\n\n\n\n\n\n\n\n	\n		გააზიარე\n		FacebookLinkedIn	\n	
URL:https://bdoacademy.edu.ge/event/%e1%83%9b%e1%83%90%e1%83%a1%e1%83%a2%e1%83%94%e1%83%a0%e1%83%98-ms-excel-%e1%83%a8%e1%83%98-8/
CATEGORIES:ტრენინგები
ATTACH;FMTTYPE=image/jpeg:https://bdoacademy.edu.ge/wp-content/uploads/2022/09/ანონს-შაბლონი-04.jpg
END:VEVENT
END:VCALENDAR