BEGIN:VCALENDAR
VERSION:2.0
PRODID:-//ბიდიო აკადემია - ECPv4.9.7//NONSGML v1.0//EN
CALSCALE:GREGORIAN
METHOD:PUBLISH
X-WR-CALNAME:ბიდიო აკადემია
X-ORIGINAL-URL:https://bdoacademy.edu.ge
X-WR-CALDESC:Events for ბიდიო აკადემია
BEGIN:VTIMEZONE
TZID:"Asia/Dubai"
BEGIN:STANDARD
TZOFFSETFROM:+0400
TZOFFSETTO:+0400
TZNAME:+04
DTSTART:20250101T000000
END:STANDARD
END:VTIMEZONE
BEGIN:VEVENT
DTSTART;TZID="Asia/Dubai":20250320T160000
DTEND;TZID="Asia/Dubai":20250320T170000
DTSTAMP:20260421T132546
CREATED:20250313T074726Z
LAST-MODIFIED:20250313T074902Z
UID:8840-1742486400-1742490000@bdoacademy.edu.ge
SUMMARY:ვებინარი: „ხელოვნური ინტელექტის (AI) როლი პროექტის მართვაში“
DESCRIPTION:\n\n\nპროექტების მართვა უკვე ერთ-ერთი ყველაზე მოთხოვნადი პროფესიაა\, რომლის მნიშვნელობაც მომავალში კიდევ უფრო გაიზრდება. სწორედ ამიტომ\, BDO Academy გიწვევთ ვებინარზე: „ხელოვნური ინტელექტის (AI) როლი პროექტის მართვაში“  \n\n\n\n\n\n\n\n\n\n\n	\n		გააზიარე\n		FacebookLinkedIn	\n	
URL:https://bdoacademy.edu.ge/event/%e1%83%95%e1%83%94%e1%83%91%e1%83%98%e1%83%9c%e1%83%90%e1%83%a0%e1%83%96%e1%83%94-%e1%83%ae%e1%83%94%e1%83%9a%e1%83%9d%e1%83%95%e1%83%9c%e1%83%a3%e1%83%a0%e1%83%98-%e1%83%98%e1%83%9c/
CATEGORIES:ღონისძიებები
ATTACH;FMTTYPE=image/png:https://bdoacademy.edu.ge/wp-content/uploads/2025/03/ვებინარი-20.12.25-14.png
END:VEVENT
END:VCALENDAR