BEGIN:VCALENDAR
VERSION:2.0
PRODID:-//ბიდიო აკადემია - ECPv4.9.7//NONSGML v1.0//EN
CALSCALE:GREGORIAN
METHOD:PUBLISH
X-WR-CALNAME:ბიდიო აკადემია
X-ORIGINAL-URL:https://bdoacademy.edu.ge
X-WR-CALDESC:Events for ბიდიო აკადემია
BEGIN:VTIMEZONE
TZID:"Asia/Dubai"
BEGIN:STANDARD
TZOFFSETFROM:+0400
TZOFFSETTO:+0400
TZNAME:+04
DTSTART:20210101T000000
END:STANDARD
END:VTIMEZONE
BEGIN:VEVENT
DTSTART;TZID="Asia/Dubai":20211125T190000
DTEND;TZID="Asia/Dubai":20211125T210000
DTSTAMP:20260423T104735
CREATED:20211115T101658Z
LAST-MODIFIED:20211115T101719Z
UID:6507-1637866800-1637874000@bdoacademy.edu.ge
SUMMARY:არარეზიდენტი პირების დაბეგვრა
DESCRIPTION:\n\n\n \n\n\n\n\n\n\n\n\n\n\n	\n		გააზიარე\n		FacebookLinkedIn	\n	
URL:https://bdoacademy.edu.ge/event/%e1%83%90%e1%83%a0%e1%83%90%e1%83%a0%e1%83%94%e1%83%96%e1%83%98%e1%83%93%e1%83%94%e1%83%9c%e1%83%a2%e1%83%98-%e1%83%9e%e1%83%98%e1%83%a0%e1%83%94%e1%83%91%e1%83%98%e1%83%a1-%e1%83%93%e1%83%90-2/
CATEGORIES:ტრენინგები
ATTACH;FMTTYPE=image/jpeg:https://bdoacademy.edu.ge/wp-content/uploads/2021/01/არარეზიდენტი-პირების-დაბეგვრა2-02.jpg
END:VEVENT
END:VCALENDAR