BEGIN:VCALENDAR
VERSION:2.0
PRODID:-//ბიდიო აკადემია - ECPv4.9.7//NONSGML v1.0//EN
CALSCALE:GREGORIAN
METHOD:PUBLISH
X-WR-CALNAME:ბიდიო აკადემია
X-ORIGINAL-URL:https://bdoacademy.edu.ge
X-WR-CALDESC:Events for ბიდიო აკადემია
BEGIN:VTIMEZONE
TZID:"Asia/Dubai"
BEGIN:STANDARD
TZOFFSETFROM:+0400
TZOFFSETTO:+0400
TZNAME:+04
DTSTART:20250101T000000
END:STANDARD
END:VTIMEZONE
BEGIN:VEVENT
DTSTART;TZID="Asia/Dubai":20250917T190000
DTEND;TZID="Asia/Dubai":20250917T210000
DTSTAMP:20260421T112311
CREATED:20250114T114726Z
LAST-MODIFIED:20250731T140235Z
UID:8750-1758135600-1758142800@bdoacademy.edu.ge
SUMMARY:ადამიანური კაპიტალის სტრატეგიული მართვა ISO 30414 სტანდარტით
DESCRIPTION:\n\n\nდღეები: ოთხშაბათი – შაბათი (11:00 – 13:00) . HR მეტრიკების დანერგვით\, HR მენეჯერები შეძლებენ დაასაბუთონ თავიანთი მოთხოვნები ცვლილებების მიმართ და ამით გავლენა მოახდინონ და წვლილი შეიტანონ სტრატეგიულ დაგეგმვასა და გადაწყვეტილების მიღებაში.  \n\n\n\n\n\n\n\n\n\n\n	\n		გააზიარე\n		FacebookLinkedIn	\n	
URL:https://bdoacademy.edu.ge/event/%e1%83%90%e1%83%93%e1%83%90%e1%83%9b%e1%83%98%e1%83%90%e1%83%9c%e1%83%a3%e1%83%a0%e1%83%98-%e1%83%99%e1%83%90%e1%83%9e%e1%83%98%e1%83%a2%e1%83%90%e1%83%9a%e1%83%98%e1%83%a1-%e1%83%a1%e1%83%a2-2/
CATEGORIES:ტრენინგები
ATTACH;FMTTYPE=image/png:https://bdoacademy.edu.ge/wp-content/uploads/2024/07/iso-30414-39-39.png
END:VEVENT
END:VCALENDAR